BEGIN:VCALENDAR
VERSION:2.0
PRODID:-//Tukios.com/
BEGIN:VEVENT
UID:a61e7550-dd75-4c9e-bfea-2a4c4b2972db@www.ringtownfuneral.com
DTSTAMP:20260425T201040Z
DTSTART:20260502T130000Z
DTEND:20260502T150000Z
SUMMARY:Viewing
DESCRIPTION:
URL:https://www.ringtownfuneral.com/obituaries/ronald-hinderliter
LOCATION:St. John's Lutheran Church 106 West Main Street  Ringtown PA 
	17967
GEO:40.8581536;-76.2330875
END:VEVENT
END:VCALENDAR