BEGIN:VCALENDAR
VERSION:2.0
PRODID:-//Tukios.com/
BEGIN:VEVENT
UID:f6d4ed8b-2d55-43ec-8d53-b750978332f5@www.ringtownfuneral.com
DTSTAMP:20260425T201216Z
DTSTART:20260502T150000Z
DTEND:20260502T160000Z
SUMMARY:Funeral Service
DESCRIPTION:
URL:https://www.ringtownfuneral.com/obituaries/ronald-hinderliter
LOCATION:St. John's Lutheran Church 106 West Main Street  Ringtown PA 
	17967
GEO:40.8581536;-76.2330875
END:VEVENT
END:VCALENDAR