BEGIN:VCALENDAR
VERSION:2.0
PRODID:-//Tukios.com/
BEGIN:VEVENT
UID:4432ed19-1732-4cd3-853f-1c01da1aa583@www.ringtownfuneral.com
DTSTAMP:20260425T200709Z
DTSTART:20260501T210000Z
DTEND:20260502T000000Z
SUMMARY:Viewing
DESCRIPTION:
URL:https://www.ringtownfuneral.com/obituaries/ronald-hinderliter
LOCATION:Stauffer-Breznik Funeral Home, Inc. 412 W Main St  Ringtown PA 
	17967
GEO:40.8565839;-76.2399796
END:VEVENT
END:VCALENDAR